BEGIN:VCALENDAR
VERSION:2.0
PRODID:-//Biblioteca Torre di Albidona - ECPv5.16.1.1//NONSGML v1.0//EN
CALSCALE:GREGORIAN
METHOD:PUBLISH
X-WR-CALNAME:Biblioteca Torre di Albidona
X-ORIGINAL-URL:https://www.bibliotecatorredialbidona.com
X-WR-CALDESC:Eventi per Biblioteca Torre di Albidona
REFRESH-INTERVAL;VALUE=DURATION:PT1H
X-Robots-Tag:noindex
X-PUBLISHED-TTL:PT1H
BEGIN:VTIMEZONE
TZID:UTC
BEGIN:STANDARD
TZOFFSETFROM:+0000
TZOFFSETTO:+0000
TZNAME:UTC
DTSTART:20220101T000000
END:STANDARD
END:VTIMEZONE
BEGIN:VEVENT
DTSTART;VALUE=DATE:20221001
DTEND;VALUE=DATE:20221020
DTSTAMP:20260424T182117
CREATED:20190604T065111Z
LAST-MODIFIED:20191207T145523Z
UID:478-1664582400-1666223999@www.bibliotecatorredialbidona.com
SUMMARY:Golden Age of Renaissance Exhibition
DESCRIPTION:Etiam semper\, nunc vitae volutpat efficitur\, elit nibh egestas velit\, amet euismod justo justo pharetra ipsum. Mauris tincidunt magna\, ut fringilla erat ultrices et. Class aptent taciti sociosqu ad litora torquent per conubia nostra\, per inceptos himenaeos. Donec a metus eget libero efficitur tempor. Mauris bibendum mi leo\, at pulvinar leo cursus congue. Aenean tristique metus diam\, id mollis magna efficitur nec. Sed enenatis arcu nisl\, ac pharetra felis vestibulum vitae. Aenean sit amet pharetra eros\, et condimentum tortor. Class aptent taciti sociosqu ad litora torquent per conubia nostra\, per inceptos himenaeos. Aenean a dolor turpis. 					\n						\n				\n				\n				\n					\n			\n		\n				\n				\n				\n				\n			Buy Ticket
URL:https://www.bibliotecatorredialbidona.com/event/golden-age-of-renaissance-exhibition/
LOCATION:Queens\, New York\, 34th Ave\, NY\, 11106\, United States
CATEGORIES:Invitation
ATTACH;FMTTYPE=image/jpeg:https://www.bibliotecatorredialbidona.com/wp-content/uploads/2019/05/image-40-copyright.jpg
ORGANIZER;CN="Ozeum%20Art%20%26%20History%20Museum":MAILTO:yoursite@example.com
END:VEVENT
BEGIN:VEVENT
DTSTART;TZID=UTC:20221020T080000
DTEND;TZID=UTC:20221116T170000
DTSTAMP:20260424T182117
CREATED:20190531T061521Z
LAST-MODIFIED:20191207T094953Z
UID:283-1666252800-1668618000@www.bibliotecatorredialbidona.com
SUMMARY:Jean Francois De Troy "Bathsheba At Her Toilet"
DESCRIPTION:Etiam semper\, nunc vitae volutpat efficitur\, elit nibh egestas velit\, amet euismod justo justo pharetra ipsum. Mauris tincidunt magna\, ut fringilla erat ultrices et. Class aptent taciti sociosqu ad litora torquent per conubia nostra\, per inceptos himenaeos. Donec a metus eget libero efficitur tempor. Mauris bibendum mi leo\, at pulvinar leo cursus congue. Aenean tristique metus diam\, id mollis magna efficitur nec. Sed enenatis arcu nisl\, ac pharetra felis vestibulum vitae. Aenean sit amet pharetra eros\, et condimentum tortor. Class aptent taciti sociosqu ad litora torquent per conubia nostra\, per inceptos himenaeos. Aenean a dolor turpis. 					\n						\n				\n				\n				\n					\n			\n		\n				\n				\n				\n				\n			Buy Ticket
URL:https://www.bibliotecatorredialbidona.com/event/jean-francois-de-troy-bathsheba-at-her-toilet/
LOCATION:Queens\, New York\, 34th Ave\, NY\, 11106\, United States
CATEGORIES:Exhibitions
ATTACH;FMTTYPE=image/jpeg:https://www.bibliotecatorredialbidona.com/wp-content/uploads/2019/06/image-42-copyright.jpg
ORGANIZER;CN="Ozeum%20Art%20%26%20History%20Museum":MAILTO:yoursite@example.com
END:VEVENT
BEGIN:VEVENT
DTSTART;VALUE=DATE:20221110
DTEND;VALUE=DATE:20221207
DTSTAMP:20260424T182117
CREATED:20190604T065223Z
LAST-MODIFIED:20191207T145408Z
UID:480-1668038400-1670371199@www.bibliotecatorredialbidona.com
SUMMARY:Records & Rebels 1966-1970
DESCRIPTION:Etiam semper\, nunc vitae volutpat efficitur\, elit nibh egestas velit\, amet euismod justo justo pharetra ipsum. Mauris tincidunt magna\, ut fringilla erat ultrices et. Class aptent taciti sociosqu ad litora torquent per conubia nostra\, per inceptos himenaeos. Donec a metus eget libero efficitur tempor. Mauris bibendum mi leo\, at pulvinar leo cursus congue. Aenean tristique metus diam\, id mollis magna efficitur nec. Sed enenatis arcu nisl\, ac pharetra felis vestibulum vitae. Aenean sit amet pharetra eros\, et condimentum tortor. Class aptent taciti sociosqu ad litora torquent per conubia nostra\, per inceptos himenaeos. Aenean a dolor turpis. 					\n						\n				\n				\n				\n					\n			\n		\n				\n				\n				\n				\n			Buy Ticket
URL:https://www.bibliotecatorredialbidona.com/event/records-rebels-1966-1970/
LOCATION:Queens\, New York\, 34th Ave\, NY\, 11106\, United States
CATEGORIES:Invitation
ATTACH;FMTTYPE=image/jpeg:https://www.bibliotecatorredialbidona.com/wp-content/uploads/2019/06/image-45-copyright.jpg
ORGANIZER;CN="Ozeum%20Art%20%26%20History%20Museum":MAILTO:yoursite@example.com
END:VEVENT
BEGIN:VEVENT
DTSTART;VALUE=DATE:20221201
DTEND;VALUE=DATE:20221219
DTSTAMP:20260424T182117
CREATED:20190606T064320Z
LAST-MODIFIED:20191207T094832Z
UID:690-1669852800-1671407999@www.bibliotecatorredialbidona.com
SUMMARY:Pieter Bruegel The Elder
DESCRIPTION:Etiam semper\, nunc vitae volutpat efficitur\, elit nibh egestas velit\, amet euismod justo justo pharetra ipsum. Mauris tincidunt magna\, ut fringilla erat ultrices et. Class aptent taciti sociosqu ad litora torquent per conubia nostra\, per inceptos himenaeos. Donec a metus eget libero efficitur tempor. Mauris bibendum mi leo\, at pulvinar leo cursus congue. Aenean tristique metus diam\, id mollis magna efficitur nec. Sed enenatis arcu nisl\, ac pharetra felis vestibulum vitae. Aenean sit amet pharetra eros\, et condimentum tortor. Class aptent taciti sociosqu ad litora torquent per conubia nostra\, per inceptos himenaeos. Aenean a dolor turpis. 					\n						\n				\n				\n				\n					\n			\n		\n				\n				\n				\n				\n			Buy Ticket
URL:https://www.bibliotecatorredialbidona.com/event/pieter-bruegel-the-elder/
LOCATION:Queens\, New York\, 34th Ave\, NY\, 11106\, United States
CATEGORIES:Galleries
ATTACH;FMTTYPE=image/jpeg:https://www.bibliotecatorredialbidona.com/wp-content/uploads/2019/06/image-46-copyright.jpg
ORGANIZER;CN="Ozeum%20Art%20%26%20History%20Museum":MAILTO:yoursite@example.com
END:VEVENT
END:VCALENDAR